BEGIN:VCALENDAR
VERSION:2.0
PRODID:-//Oveselība - ECPv6.15.18//NONSGML v1.0//EN
CALSCALE:GREGORIAN
METHOD:PUBLISH
X-WR-CALNAME:Oveselība
X-ORIGINAL-URL:https://oveselibaogre.lv
X-WR-CALDESC:Oveselība notikumi
REFRESH-INTERVAL;VALUE=DURATION:PT1H
X-Robots-Tag:noindex
X-PUBLISHED-TTL:PT1H
BEGIN:VTIMEZONE
TZID:Europe/Riga
BEGIN:DAYLIGHT
TZOFFSETFROM:+0200
TZOFFSETTO:+0300
TZNAME:EEST
DTSTART:20220327T010000
END:DAYLIGHT
BEGIN:STANDARD
TZOFFSETFROM:+0300
TZOFFSETTO:+0200
TZNAME:EET
DTSTART:20221030T010000
END:STANDARD
BEGIN:DAYLIGHT
TZOFFSETFROM:+0200
TZOFFSETTO:+0300
TZNAME:EEST
DTSTART:20230326T010000
END:DAYLIGHT
BEGIN:STANDARD
TZOFFSETFROM:+0300
TZOFFSETTO:+0200
TZNAME:EET
DTSTART:20231029T010000
END:STANDARD
BEGIN:DAYLIGHT
TZOFFSETFROM:+0200
TZOFFSETTO:+0300
TZNAME:EEST
DTSTART:20240331T010000
END:DAYLIGHT
BEGIN:STANDARD
TZOFFSETFROM:+0300
TZOFFSETTO:+0200
TZNAME:EET
DTSTART:20241027T010000
END:STANDARD
END:VTIMEZONE
BEGIN:VEVENT
DTSTART;TZID=Europe/Riga:20230521T080000
DTEND;TZID=Europe/Riga:20230521T170000
DTSTAMP:20260422T110351
CREATED:20230425T115603Z
LAST-MODIFIED:20230522T151613Z
UID:4690-1684656000-1684688400@oveselibaogre.lv
SUMMARY:"Veselas ģimenes - drošs pamats veselīgai valstij" - pasākums ģimenēm 21.maijā Ogresgalā
DESCRIPTION:Aicinām ģimenes apmeklēt pasākumu “Veselas ģimenes – drošs pamats veselīgai valstij”\, kas norisināsies svētdien\, 21.maijā\, Ogresgalā! \nAktīvos un sportiskos aicinām tikties jau no rīta pirms plkst. 9.00 Ogrē\, Brīvības ielā 44\, lai kopā baudītu nūjošanas pārgājienu\, kas aizvedīs uz Ogresgalu! Plkst. 9.00 Brīvības ielā 44\, Ogrē STARTS nūjošanas pārgājienam Ogre – Ogresgals.\n(Ja nepieciešamas nūjošanas nūjas\, norādiet to pieteikumā pie komentāriem\, norādot savu augumu cm.) \nPlkst. 8.30 iespējama nūjošanas apmācība (Brīvības ielā 44\, Ogrē). Pieteikšanās obligāta\, aizpildot pieteikuma formu zemāk (komentāru sadaļā norādīt “nūjošanas apmācībai” un\, ja nepieciešamas nūjas\, tad miniet arī to un norādiet savu augumu cm). \nIr arī iespēja uz Ogresgalu doties ar velosipēdu – plkst. 10.00 STARTS VELO braucienam ģimenēm Ogre-Ogresgals. Pulcēšanās no plkst. 9.40 Brīvības ielā 44\, Ogrē. \nDrošs ekipējums visai ģimenei obligāts! \nPlkst. 11.00 Koncerts Tradīciju parkā Ogresgalā. \nNo plkst. 11.30 Veselīgas meistarklases un jautras stafetes ģimenēm Tradīciju parkā Ogresgalā:\n* Mūzikas terapijas meistarklase (plkst.12.00 un plkst.12.30)\n* Mākslas terapijas meistarklase (plkst. 11.30 un plkst.12.30) – šeit pieteikšanās\nobligāta  (aizpildot pieteikuma formu un komentāra sadaļā norādiet “mākslas terapijai”)\, jo vietu skaits ierobežots!\n* Kokapstrādes meistarklase\n* Uguns iegūšanas darbnīca lieliem un maziem.\n* Loka šaušana mazajiem.\n* Stafetes visai ģimenei. \nPlkst.13.00 Gatavojies vasarai un esi drošs saulē jeb seminārs “Zini par melanomu”.\nPlkst. 14.00 Ballīte ģimenei kopā ar dīdžeju. \nPlkst. 11.00 – 14.00 pasākuma apmeklētājiem būs iespēja apskatīt Ogres CB mobilo filiālbibliotēku (bibliobusu). \nPēc pasākuma nūjotājiem un VELO brauciena dalībniekiem paredzēts otrais etaps Ogresgals – Ogre. Ir arī iespēja uz Ogri doties ar sabiedrisko transportu. \nNĀC UN IZBAUDI DIENU KOPĀ AR ĢIMENI! \nDalība bez maksas. \nOveselība nodarbību organizē ar Ogres novada pašvaldības un ESF projekta “Pasākumi veselības veicināšanai un slimību profilaksei Ogres novada iedzīvotājiem” (Nr.9.2.4.2/16/I/031) atbalstu. \nUz nūjošanas pārgājienu\, nūjošanas apmācībām un mākslas terapijas meitarklasi nepieciešama PIETEIKŠANĀS! Komentāru sadaļā lūgums norādīt\, uz kuru pasākuma daļu vēlaties pieteikties. \nPieteikums\n\n\n  \n\n\n\n\n \n\n \n\n \n\n \n\n \n\n Δ
URL:https://oveselibaogre.lv/pasakums/veselas-gimenes-dross-pamats-veseligai-valstij-pasakums-gimenem-21-maija-ogresgala/
CATEGORIES:Fiziskās aktivitātes,Ģimenes veselība
ATTACH;FMTTYPE=image/png:https://oveselibaogre.lv/wp-content/uploads/2023/04/21.05.2023.-OGRESGALS.png
END:VEVENT
END:VCALENDAR