BEGIN:VCALENDAR
VERSION:2.0
PRODID:-//Oveselība - ECPv6.15.18//NONSGML v1.0//EN
CALSCALE:GREGORIAN
METHOD:PUBLISH
X-ORIGINAL-URL:https://oveselibaogre.lv
X-WR-CALDESC:Oveselība notikumi
REFRESH-INTERVAL;VALUE=DURATION:PT1H
X-Robots-Tag:noindex
X-PUBLISHED-TTL:PT1H
BEGIN:VTIMEZONE
TZID:Europe/Riga
BEGIN:DAYLIGHT
TZOFFSETFROM:+0200
TZOFFSETTO:+0300
TZNAME:EEST
DTSTART:20220327T010000
END:DAYLIGHT
BEGIN:STANDARD
TZOFFSETFROM:+0300
TZOFFSETTO:+0200
TZNAME:EET
DTSTART:20221030T010000
END:STANDARD
BEGIN:DAYLIGHT
TZOFFSETFROM:+0200
TZOFFSETTO:+0300
TZNAME:EEST
DTSTART:20230326T010000
END:DAYLIGHT
BEGIN:STANDARD
TZOFFSETFROM:+0300
TZOFFSETTO:+0200
TZNAME:EET
DTSTART:20231029T010000
END:STANDARD
BEGIN:DAYLIGHT
TZOFFSETFROM:+0200
TZOFFSETTO:+0300
TZNAME:EEST
DTSTART:20240331T010000
END:DAYLIGHT
BEGIN:STANDARD
TZOFFSETFROM:+0300
TZOFFSETTO:+0200
TZNAME:EET
DTSTART:20241027T010000
END:STANDARD
END:VTIMEZONE
BEGIN:VEVENT
DTSTART;TZID=Europe/Riga:20230401T103000
DTEND;TZID=Europe/Riga:20230401T113000
DTSTAMP:20260422T085815
CREATED:20230322T105459Z
LAST-MODIFIED:20230404T113629Z
UID:4496-1680345000-1680348600@oveselibaogre.lv
SUMMARY:1.04. Seminārs "Zini par melanomu" Ķegumā
DESCRIPTION:7. APRĪLIS- PASAULES VESELĪBAS DIENA \nAprīlī\, veselības nedēļas ietvaros\, Oveselība organizē dažādus pasākumus veselības veicināšanai Ogres novada iedzīvotājiem. Dzīvo vesels Ogres novadā! Nāc un piedalies! \nVai Tu zini\, kas ir melanoma? Kādi ir tās rašanās cēloņi? \nVai varam izvairīties no melanomas\, kādi ir preventīvi pasākumi? \nTuvojoties gada siltajai sezonai\, aicinām uzzināt vairāk par saules ietekmi un mūsu ādu un veselību. \nTiekamies 1. aprīlī\, plkst. 10.30 Ķeguma Dienas centrā! \nDalība bez maksas. \nOveselība nodarbību organizē\, īstenojot ESF projektu “Pasākumi veselības veicināšanai un slimību profilaksei Ogres novada iedzīvotājiem” (Nr.9.2.4.2/16/I/031). \nPieteikšanās obligāta\, aizpildot pieteikuma formu: \nPieteikums\n\n\n  \n\n\n\n\n \n\n \n\n \n\n \n\n \n\n Δ
URL:https://oveselibaogre.lv/pasakums/1-04-seminars-zini-par-melanomu-keguma/
CATEGORIES:Ģimenes veselība
ATTACH;FMTTYPE=image/png:https://oveselibaogre.lv/wp-content/uploads/2023/03/ZINI-PAR-MELANOMU.png
END:VEVENT
END:VCALENDAR