BEGIN:VCALENDAR
VERSION:2.0
PRODID:-//Oveselība - ECPv6.15.18//NONSGML v1.0//EN
CALSCALE:GREGORIAN
METHOD:PUBLISH
X-WR-CALNAME:Oveselība
X-ORIGINAL-URL:https://oveselibaogre.lv
X-WR-CALDESC:Oveselība notikumi
REFRESH-INTERVAL;VALUE=DURATION:PT1H
X-Robots-Tag:noindex
X-PUBLISHED-TTL:PT1H
BEGIN:VTIMEZONE
TZID:Europe/Riga
BEGIN:DAYLIGHT
TZOFFSETFROM:+0200
TZOFFSETTO:+0300
TZNAME:EEST
DTSTART:20250330T010000
END:DAYLIGHT
BEGIN:STANDARD
TZOFFSETFROM:+0300
TZOFFSETTO:+0200
TZNAME:EET
DTSTART:20251026T010000
END:STANDARD
BEGIN:DAYLIGHT
TZOFFSETFROM:+0200
TZOFFSETTO:+0300
TZNAME:EEST
DTSTART:20260329T010000
END:DAYLIGHT
BEGIN:STANDARD
TZOFFSETFROM:+0300
TZOFFSETTO:+0200
TZNAME:EET
DTSTART:20261025T010000
END:STANDARD
BEGIN:DAYLIGHT
TZOFFSETFROM:+0200
TZOFFSETTO:+0300
TZNAME:EEST
DTSTART:20270328T010000
END:DAYLIGHT
BEGIN:STANDARD
TZOFFSETFROM:+0300
TZOFFSETTO:+0200
TZNAME:EET
DTSTART:20271031T010000
END:STANDARD
END:VTIMEZONE
BEGIN:VEVENT
DTSTART;TZID=Europe/Riga:20260407T080000
DTEND;TZID=Europe/Riga:20260430T170000
DTSTAMP:20260422T040942
CREATED:20260407T132211Z
LAST-MODIFIED:20260407T174659Z
UID:9184-1775548800-1777568400@oveselibaogre.lv
SUMMARY:AIZVADĪTS VESELĪBAS IZGLĪTĪBAS PASĀKUMS OGRES NOVADA JAUNIEŠIEM “VESELS UN GUDRS 2026”
DESCRIPTION:2026.gada 2.aprīlī Lielvārdes pilsētā norisinājās Oveselība organizētais Pasaules veselības dienai veltītais veselības izglītības pasākums Ogres novada jauniešiem “Vesels un gudrs 2026”. Pasākumā piedalījās ap 150 jauniešiem\, kopumā veidojot 14 komandas no Ogres novada vidusskolām\, Ogres Valsts ģimnāzijas un Ogres tehnikuma. \nPasākuma mērķis bija radošā un atraktīvā veidā stiprināt jauniešu zināšanas par veselīgu dzīvesveidu\, kā arī dot iespēju pārbaudīt iepriekš iegūtās zināšanas Oveselība organizētajās izglītojošajās nodarbībās\, kas gada laikā tiek īstenotas Ogres novada izglītības iestādēs dažādās veselības veicināšanas jomās. \nPasākums startēja Lielvārdes sporta centrā\, kur komandas saņēma maršruta kartes un papildu uzdevumus\, kurus bija iespējams pildīt\, veicot pasākuma maršrutu un tādējādi nopelnot papildu punktus. Pēc starta jaunieši devās maršrutā pa Lielvārdes pilsētu\, apmeklējot kopumā septiņus kontrolpunktus\, kuros viņus sagaidīja dažādu jomu speciālisti ar gan teorētiskiem\, gan praktiskiem uzdevumiem. \n\nFizisko aktivitāšu kontrolpunktā Lielvārdes sporta centra stadionā jauniešiem bija iespēja pārbaudīt savu veiklību un sadarbošanās prasmes īpašā uzdevumā. Katram komandas dalībniekam tika piešķirts profils ar noteiktu vecumu\, augumu un svaru\, pēc kura tika aprēķināts individuālais mērķa pulss. Uzvelkot pulsa jostu\, dalībniekiem četru minūšu laikā bija jāveic fiziskās aktivitātes\, cenšoties noturēt pulsu pēc iespējas tuvāk 60% no maksimālās sirdsdarbības. Šī aktivitāte palīdzēja jauniešiem labāk izprast fiziskās slodzes intensitāti un tās piemērotību dažādām vecuma grupām.\nAtkarību profilakses kontrolpunktā Lielvārdes Sociālā dienas aprūpes centrā jauniešus sagaidīja speciālists ar izzinošu aktivitāti par dažādām atkarību izraisošām vielām un procesu atkarībām. Komandām bija jāšķiro mītu un patiesības apgalvojumi un jādiskutē par sabiedrībā izplatītiem maldīgiem priekšstatiem. Kā viens no piemēriem tika apskatīts jauniešu vidū populārs uzskats\, ka elektroniskās cigaretes ir mazāk kaitīga alternatīva tradicionālajām cigaretēm\, lai gan pētījumi liecina\, ka to aerosols satur kaitīgas ķīmiskās vielas un smagos metālus (svinu\, niķeli\, alvu un alumīniju)\, kas veicina plaušu bojājumus.\nSeksuālās un reproduktīvās veselības kontrolpunktā Jauniešu mājā “Spotiņš” jauniešus sagaidīja aktivitātes un izglītojošas spēles\, kas rosināja jauniešus diskutēt par drošām attiecībām\, personīgajām robežām\, piekrišanu\, kontracepcijas iespējām\, seksuāli transmisīvajām infekcijām\, kā arī par atbildīgu rīcību un veidiem\, kā pasargāt savu veselību.\nVeselīga uztura kontrolpunktā Lielvārdes pilsētas kultūras namā sertificēta uztura speciāliste piedāvāja jauniešiem gan teorētiskus uzdevumus\, gan degustācijas aktivitātes. Komandas mēģināja atminēt veselīgu smūtiju un našķu sastāvdaļas\, kā arī atbildēja uz testa jautājumiem par veselīga uztura pamatprincipiem.\nPsihoemocionālās veselības kontrolpunktā pirmsskolas izglītības iestādē “Pūt vējiņi” jauniešus sagaidīja psihoterapeits ar vairākām izzinošām aktivitātēm. To laikā jaunieši noteica kvalitatīva miega komponentus\, mācījās atpazīt stresa simptomus un to izpausmes sevī un citos\, kā arī trenēja spēju atpazīt emocijas pēc cilvēku sejas izteiksmēm.\nKontrolpunktā “Maņu tests” pie kafejnīcas “Kante” jauniešus sagaidīja aktivitātes\, kurās viņi pārbaudīja savas maņu spējas – atpazina dažādus priekšmetus ar tausti un noteica smaržas. Uzdevums rosināja dalībniekus paļauties uz sajūtām un pārbaudīt savu uztveri neierastā veidā\, vienlaikus veicinot komandas sadarbību.\nSavukārt Lielvārdes Mārītes Montesori mājā jauniešus sagaidīja sertificēta farmaceite\, kura bija sagatavojusi atraktīvu viktorīnu ar izglītojošiem jautājumiem par zālēm\, uztura bagātinātājiem un farmācijas jomu. Jaunieši pārbaudīja savas zināšanas\, kā arī uzzināja vairāk par drošu medikamentu lietošanu\, uztura bagātinātāju izvēli un farmaceita nozīmīgo lomu veselības aprūpē.\n\nKomandas\, kuras vēlējās nopelnīt papildu punktus\, maršruta laikā pildīja dažādus papildu uzdevumus. Ņemot vērā\, ka Slimību profilakses un kontroles centrs 2026.gada pirmajā pusgadā drošību pie un uz ūdens izvirzījis kā nacionāla mēroga prioritāti\, viens no uzdevumiem bija saistīts ar šo tēmu. Jauniešiem bija jāiztēlojas situācija pie ūdens un jāizstrādā drošas rīcības algoritms ārkārtas gadījumā. \nPasākuma laikā jaunieši ne tikai pārbaudīja savas zināšanas par veselīgu dzīvesveidu\, bet arī attīstīja sadarbības prasmes\, kritisko domāšanu un veselībpratību. Maršruts pa Lielvārdes pilsētu sniedza iespēju iepazīt dažādas pilsētas vietas un institūcijas\, vienlaikus piedaloties aktīvā un izglītojošā piedzīvojumā. \nPēc rezultātu apkopošanas tika noteiktas komandas ar augstākajiem iegūtajiem punktiem. Galveno balvu un 1.vietu ieguva Ogres Valsts ģimnāzijas komanda “OVĢ”\, 2.vietu izcīnīja komanda “Vālītes” no Edgara Kauliņa Lielvārdes vidusskolas\, savukārt 3.vietu ieguva komanda “Gurinēti marķīši” no Edgara Kauliņa Lielvārdes vidusskolas. \nKatras jomas speciālisti izvirzīja arī savas favorītkomandas:\n– “Švilpītes” no Madlienas vidusskolas\n– “Dīvāna eksperti” no Edgara Kauliņa Lielvārdes vidusskolas\n– “Oušenas 8” no Ikšķiles vidusskolas\n– “Vitamīns” no Ogres tehnikuma\n– “Vesels un gudrs” no Ogres Valsts ģimnāzijas \nPriecē\, ka jauniešu iesaiste\, komandu rezultāti\, zināšanas un motivācija bija augstā līmenī\, apliecinot\, ka veselības izglītība jauniešu vidū ir nozīmīga un nepieciešama. Paldies pedagogiem un izglītības iestādēm par jauniešu iedrošināšanu piedalīties\, kā arī visiem speciālistiem un sadarbības partneriem par ieguldījumu pasākuma īstenošanā. \nSirsnīgs paldies uzņēmumam “Fazer Latvija” par atbalstu un gardo balvu nodrošināšanu. Pateicamies biedrībai “Visa veida kustība” par nozīmīgo atbalstu\, radošo ieguldījumu un iesaisti pasākuma organizēšanā\, īpašu paldies sakām Agrim Pikšenam. Paldies BK Ogre par sarūpētajām balvām – ielūgumiem uz komandas spēli. Tāpat pateicamies SIA “Gamma NF” par gardo zupu\, kas jauniešus sagaidīja pasākuma noslēgumā. \nPateicamies par sadarbību un viesmīlību arī visām vietām\, kurās norisinājās pasākuma kontrolpunkti – Lielvārdes sporta centram\, Lielvārdes sporta centra stadionam\, Lielvārdes pilsētas kultūras namam\, Lielvārdes Sociālā dienas aprūpes centram\, PII “Pūt vējiņi”\, Jauniešu mājai “Spotiņš”\, Mārītes Montesori mājai\, kā arī kafejnīcai “Kante”. \nUz tikšanos “Vesels un gudrs 2027”! \nDzīvo vesels Ogres novadā! \nOveselība pasākumu realizē Eiropas Sociālā fonda Plus (ESF+) projekta “Pasākumi veselības veicināšanai un slimību profilaksei Ogres novada iedzīvotājiem” (identifikācijas Nr. 4.1.2.2/1/24/I/022) ietvaros. \n                                    \n     \n 
URL:https://oveselibaogre.lv/pasakums/aizvadits-veselibas-izglitibas-pasakums-ogres-novada-jauniesiem-vesels-un-gudrs-2026/
CATEGORIES:Gaidāmie pasākumi,Karuselis,Noderīgi,Pasākumu vēsture,Sākuma lapa
ATTACH;FMTTYPE=image/jpeg:https://oveselibaogre.lv/wp-content/uploads/2026/04/IMG_2783-1.jpeg
END:VEVENT
END:VCALENDAR